BEGIN:VCALENDAR
VERSION:2.0
PRODID:-//Zoar Valley Coalition - ECPv6.15.20//NONSGML v1.0//EN
CALSCALE:GREGORIAN
METHOD:PUBLISH
X-WR-CALNAME:Zoar Valley Coalition
X-ORIGINAL-URL:https://zoarvalley.org
X-WR-CALDESC:Events for Zoar Valley Coalition
REFRESH-INTERVAL;VALUE=DURATION:PT1H
X-Robots-Tag:noindex
X-PUBLISHED-TTL:PT1H
BEGIN:VTIMEZONE
TZID:America/New_York
BEGIN:DAYLIGHT
TZOFFSETFROM:-0500
TZOFFSETTO:-0400
TZNAME:EDT
DTSTART:20230312T070000
END:DAYLIGHT
BEGIN:STANDARD
TZOFFSETFROM:-0400
TZOFFSETTO:-0500
TZNAME:EST
DTSTART:20231105T060000
END:STANDARD
BEGIN:DAYLIGHT
TZOFFSETFROM:-0500
TZOFFSETTO:-0400
TZNAME:EDT
DTSTART:20240310T070000
END:DAYLIGHT
BEGIN:STANDARD
TZOFFSETFROM:-0400
TZOFFSETTO:-0500
TZNAME:EST
DTSTART:20241103T060000
END:STANDARD
BEGIN:DAYLIGHT
TZOFFSETFROM:-0500
TZOFFSETTO:-0400
TZNAME:EDT
DTSTART:20250309T070000
END:DAYLIGHT
BEGIN:STANDARD
TZOFFSETFROM:-0400
TZOFFSETTO:-0500
TZNAME:EST
DTSTART:20251102T060000
END:STANDARD
BEGIN:DAYLIGHT
TZOFFSETFROM:-0500
TZOFFSETTO:-0400
TZNAME:EDT
DTSTART:20260308T070000
END:DAYLIGHT
BEGIN:STANDARD
TZOFFSETFROM:-0400
TZOFFSETTO:-0500
TZNAME:EST
DTSTART:20261101T060000
END:STANDARD
END:VTIMEZONE
BEGIN:VEVENT
DTSTART;TZID=America/New_York:20250607T100000
DTEND;TZID=America/New_York:20250607T200000
DTSTAMP:20260423T132424
CREATED:20250124T203527Z
LAST-MODIFIED:20250610T153223Z
UID:625-1749290400-1749326400@zoarvalley.org
SUMMARY:The Art of Zoar Valley III Exhibit  (June 7 - August 16\, 2025)
DESCRIPTION:The Springville Center for the Arts has announced The Art of Zoar Valley III\, an exhibit celebrating art inspired by the natural beauty of Zoar Valley\, on display at SCA’s Olmsted Gallery this Summer through August 16\, 2025. \nMany may remember the successful first Art of Zoar Valley exhibit and programs at SCA in 2007 and the Art of Zoar Valley II show at the Olean Public Library in 2008. Public Art Director Alisia Glaser and local artist Tom Annear will be co-curating this year’s exhibit\, and the Zoar Valley Coalition is planning a series of hikes and programs throughout the Summer to accompany the show. \nAnnouncement artwork:  “Zoar Valley Horseshoe\,” by Judd Brown
URL:https://zoarvalley.org/event/the-art-of-zoar-valley-iii/
LOCATION:Springville Center for the Arts\, 37 N. Buffalo Street\, Springville\, NY\, 14141\, United States
ATTACH;FMTTYPE=image/jpeg:https://zoarvalley.org/wp-content/uploads/2025/01/SCA-AofZV-Announcement-and-Call-for-Work.jpg
END:VEVENT
BEGIN:VEVENT
DTSTART;VALUE=DATE:20250519
DTEND;VALUE=DATE:20250524
DTSTAMP:20260423T132424
CREATED:20250315T224737Z
LAST-MODIFIED:20250315T224737Z
UID:761-1747612800-1748044799@zoarvalley.org
SUMMARY:Artwork drop-off week for The Art of Zoar Valley III
DESCRIPTION:If your artwork submission for the Art of Zoar Valley III was accepted\, this is the week to drop off your artwork at the Springville Center for the Arts. Full details TBA on their website.
URL:https://zoarvalley.org/event/artwork-drop-off-week-for-the-art-of-zoar-valley-iii/
LOCATION:Springville Center for the Arts\, 37 N. Buffalo Street\, Springville\, NY\, 14141\, United States
ATTACH;FMTTYPE=image/jpeg:https://zoarvalley.org/wp-content/uploads/2024/07/Zoar-website-image.jpg
END:VEVENT
BEGIN:VEVENT
DTSTART;VALUE=DATE:20250418
DTEND;VALUE=DATE:20250419
DTSTAMP:20260423T132424
CREATED:20250315T231102Z
LAST-MODIFIED:20250315T231102Z
UID:764-1744934400-1745020799@zoarvalley.org
SUMMARY:Call for Artworks submission forms due for The Art of Zoar Valley III
DESCRIPTION:If you’re submitting artwork for consideration in The Art of Zoar Valley III exhibit\, please complete the submission form online by April 18. The form and instructions can be found on the Springville Center for the Arts website.
URL:https://zoarvalley.org/event/call-for-artworks-submission-forms-due-for-the-art-of-zoar-valley-iii/
LOCATION:Springville Center for the Arts\, 37 N. Buffalo Street\, Springville\, NY\, 14141\, United States
ATTACH;FMTTYPE=image/png:https://zoarvalley.org/wp-content/uploads/2025/01/artzoar.png
END:VEVENT
BEGIN:VEVENT
DTSTART;VALUE=DATE:20250401
DTEND;VALUE=DATE:20250402
DTSTAMP:20260423T132424
CREATED:20250315T193848Z
LAST-MODIFIED:20250609T162436Z
UID:752-1743465600-1743551999@zoarvalley.org
SUMMARY:Zoar Valley BioBlitz 2025  (April 1 - June 30\, 2025)
DESCRIPTION:Calling all Zoar Valley enthusiasts to join in Zoar Valley BioBlitz 2025!  Ever wondered what plants and animals inhabit one of Western New York’s last wild places? Enjoy taking pictures? Want to easily contribute species data to the only up-to-date biodiversity inventory of Zoar Valley? Then the Zoar Valley Coalition’s BioBlitz 2025 is perfect for you! Become a citizen scientist – it’s easy! We’re even hosting an Introduction to iNaturalist Zoom Webinar on March 24\, 2025\, to help you get started. This is happening across Zoar’s Multiple Use Area and Unique Area in Otto\, Collins\, and Gowanda. All the details are on our Get Involved page.
URL:https://zoarvalley.org/event/zoar-valley-bioblitz-2025/
LOCATION:Zoar Valley Multiple Use Area and Unique Area
ATTACH;FMTTYPE=image/jpeg:https://zoarvalley.org/wp-content/uploads/2025/03/Graphic-Logo-REVISED-jpg-version.jpg
ORGANIZER;CN="Zoar Valley Coalition":MAILTO:savezoarvalley@gmail.com
END:VEVENT
BEGIN:VEVENT
DTSTART;TZID=America/New_York:20250324T183000
DTEND;TZID=America/New_York:20250324T191500
DTSTAMP:20260423T132424
CREATED:20250315T223724Z
LAST-MODIFIED:20250316T001721Z
UID:759-1742841000-1742843700@zoarvalley.org
SUMMARY:Introduction to iNaturalist - Zoom Webinar for BioBlitz 2025
DESCRIPTION:If you want to get out in Zoar and contribute to Zoar Valley BioBlitz 2025\, we’re presenting this brief webinar training so you can download the iNaturalist app and start uploading your photos of plants\, insects\, birds\, fungi\, trees\, and more. No special science knowledge necessary.  Webinar hosted by entomologist Joshua Klostermann\, who is currently conducting pollinator research in Zoar Valley. More info. on our Get Involved page.
URL:https://zoarvalley.org/event/introduction-to-inaturalist-zoom-webinar-for-bioblitz-2025/
ATTACH;FMTTYPE=image/png:https://zoarvalley.org/wp-content/uploads/2025/03/iNaturalist-logo-white-on-green.png
END:VEVENT
BEGIN:VEVENT
DTSTART;TZID=America/New_York:20250114T193000
DTEND;TZID=America/New_York:20250114T203000
DTSTAMP:20260423T132424
CREATED:20250102T162601Z
LAST-MODIFIED:20250102T162601Z
UID:611-1736883000-1736886600@zoarvalley.org
SUMMARY:Save Zoar Valley Public Forum
DESCRIPTION:Save Zoar Valley Public Forum in the Ken-Ton area of North Buffalo. All are welcome to attend this informational presentation on stopping the planned logging of Zoar Valley by the NYS Dept. of Environmental Conservation and the CT/NY Chapter of The National Audubon Society. Q&A to follow. This event is hosted by the Niagara Frontier Chapter of the Adirondack Mountain Club and is open to the public.
URL:https://zoarvalley.org/event/save-zoar-valley-public-forum-3/
LOCATION:Church of the Nativity\, 1530 Colvin Boulevard\, Buffalo\, NY\, 14223
ORGANIZER;CN="Zoar Valley Coalition":MAILTO:savezoarvalley@gmail.com
END:VEVENT
BEGIN:VEVENT
DTSTART;TZID=America/New_York:20241110T120000
DTEND;TZID=America/New_York:20241110T140000
DTSTAMP:20260423T132424
CREATED:20241116T023919Z
LAST-MODIFIED:20241116T030446Z
UID:456-1731240000-1731247200@zoarvalley.org
SUMMARY:Second Sunday Hike
DESCRIPTION:We’ll return to the woods the CT/NY Audubon Society and NYS DEC want to clear cut this Winter. We don’t intend to let them chop it down! Moderate hike\, some slopes.
URL:https://zoarvalley.org/event/second-sunday-hike/
LOCATION:Wickham Woods\, Wickham Road\, North Otto
END:VEVENT
BEGIN:VEVENT
DTSTART;TZID=America/New_York:20241024T183000
DTEND;TZID=America/New_York:20241024T193000
DTSTAMP:20260423T132424
CREATED:20241116T030224Z
LAST-MODIFIED:20241116T075340Z
UID:461-1729794600-1729798200@zoarvalley.org
SUMMARY:Save Zoar Valley Public Forum
DESCRIPTION:Save Zoar Valley Public Forum on the Cattaraugus Territory of the Seneca Nation of Indians. All are welcome to attend this informational presentation on stopping the planned logging of Zoar Valley by the NYS Dept. of Environmental Conservation and the CT/NY Chapter of The National Audubon Society. Q&A to follow. Open to the public.
URL:https://zoarvalley.org/event/save-zoar-valley-public-forum/
LOCATION:Seneca Nation Territory\, Cattaraugus Community Center\, Multi-Purpose Room\, 12767 Route 438\, Irving\, NY\, 14081\, United States
END:VEVENT
BEGIN:VEVENT
DTSTART;TZID=America/New_York:20241017T183000
DTEND;TZID=America/New_York:20241017T193000
DTSTAMP:20260423T132424
CREATED:20241116T075237Z
LAST-MODIFIED:20241116T075607Z
UID:484-1729189800-1729193400@zoarvalley.org
SUMMARY:Save Zoar Valley Public Forum
DESCRIPTION:Save Zoar Valley Public Forum on the Allegany Territory of the Seneca Nation of Indians. All are welcome to attend this informational presentation on stopping the planned logging of Zoar Valley by the NYS Dept. of Environmental Conservation and the CT/NY Chapter of The National Audubon Society. Q&A to follow. Open to the public.
URL:https://zoarvalley.org/event/save-zoar-valley-public-forum-2/
LOCATION:Seneca Nation Territory\, Allegany Community Center\, Jo-Jo Redeye Room\, 3677 Administration Drive\, Salamanca\, New York\, 14779\, United States
END:VEVENT
BEGIN:VEVENT
DTSTART;TZID=America/New_York:20241013T120000
DTEND;TZID=America/New_York:20241013T140000
DTSTAMP:20260423T132424
CREATED:20241122T043709Z
LAST-MODIFIED:20241122T043709Z
UID:589-1728820800-1728828000@zoarvalley.org
SUMMARY:Second Sunday Hike
DESCRIPTION:Meet at the other Forty Road trailhead\, Town of Otto \nWe’ll enjoy Fall colors among the old growth in the uplands above the confluence of the Main and South Branch Cattaraugus Creeks. We’ll also make a stop at the nearby Wickham Woods which NYS DEC and the CT/NY Audubon Society have marked with paint for logging. Learn about what we can all do to make sure this doesn’t happen! Moderate hike\, some slopes.
URL:https://zoarvalley.org/event/second-sunday-hike-2/
LOCATION:Forty Road trailhead\, Town of Otto
END:VEVENT
END:VCALENDAR